BEGIN:VCALENDAR
VERSION:2.0
PRODID:-//         - ECPv6.15.20//NONSGML v1.0//EN
CALSCALE:GREGORIAN
METHOD:PUBLISH
X-ORIGINAL-URL:https://diva-magazine.com
X-WR-CALDESC:Events for         
REFRESH-INTERVAL;VALUE=DURATION:PT1H
X-Robots-Tag:noindex
X-PUBLISHED-TTL:PT1H
BEGIN:VTIMEZONE
TZID:Europe/London
BEGIN:DAYLIGHT
TZOFFSETFROM:+0000
TZOFFSETTO:+0100
TZNAME:BST
DTSTART:20220327T010000
END:DAYLIGHT
BEGIN:STANDARD
TZOFFSETFROM:+0100
TZOFFSETTO:+0000
TZNAME:GMT
DTSTART:20221030T010000
END:STANDARD
BEGIN:DAYLIGHT
TZOFFSETFROM:+0000
TZOFFSETTO:+0100
TZNAME:BST
DTSTART:20230326T010000
END:DAYLIGHT
BEGIN:STANDARD
TZOFFSETFROM:+0100
TZOFFSETTO:+0000
TZNAME:GMT
DTSTART:20231029T010000
END:STANDARD
BEGIN:DAYLIGHT
TZOFFSETFROM:+0000
TZOFFSETTO:+0100
TZNAME:BST
DTSTART:20240331T010000
END:DAYLIGHT
BEGIN:STANDARD
TZOFFSETFROM:+0100
TZOFFSETTO:+0000
TZNAME:GMT
DTSTART:20241027T010000
END:STANDARD
END:VTIMEZONE
BEGIN:VEVENT
DTSTART;VALUE=DATE:20230728
DTEND;VALUE=DATE:20230801
DTSTAMP:20260421T064612
CREATED:20230615T083845Z
LAST-MODIFIED:20230615T091541Z
UID:74572-1690502400-1690847999@diva-magazine.com
SUMMARY:Oban Lesbian Weekend
DESCRIPTION:When is Oban Lesbian Weekend? \nOban Lesbian Weekend takes place over the weekend 28/31st July 2023. \nWhat is Oban Lesbian Weekend?  \nOban Lesbian Weekend is an inclusive weekend\, run by LGBTQ women and non-binary people for LGBTQ women and non-binary people and is a cross between a package holiday & a mini festival (there really is nothing quite like it) and started in 2022. \n🏴󠁧󠁢󠁳󠁣󠁴󠁿🏳️⚧️🏳️🌈 Join us for a mini break where you can choose to come to the Isle of Mull & the beautiful remote island of Kerrera\, explore the fairy trails or join our wildlife tour and check out our castles\, see the seals and maybe a minky whale or eagle will pop by. 🏴󠁧󠁢󠁳󠁣󠁴󠁿🏳️‍⚧️🏳️‍🌈 \n☀️👙☀️Wild Swimming\, boat trips\, wildlife tour\, Guided Walks\, Paddleboarding ☀️👙☀️ \n❤️🏴󠁧󠁢󠁳󠁣󠁴󠁿❤️ In the evening\, we have hosted meals\, then join us for Scotland’s only LGBTQ WOMENS CEILIDH\, Dance to Edinburgh DJ TRENDY WENDY or party tO DJ SANDRA D & ALABLASTER QUEEN.❤️🏴󠁧󠁢󠁳󠁣󠁴󠁿❤️ \n🦞🌮🦞 Come to Oban’s famous seafood Shack or join us for a budget or 3 course hosted meal. It’s so much easier to get to know people over dinner! 🦞🌮🦞 \nPOLY workshop for poly curious\, LGBTQ FILM event\, book club\, hosted walks & more…. \n🏴󠁧󠁢󠁳󠁣󠁴󠁿🏳️🌈🏴󠁧󠁢󠁳󠁣󠁴󠁿 Choose from budget meals or meet other women while you dine at boutique hotel\, https://no17thepromenade.com or enjoy the best of Oban’s seafood\, meat & vegan options at The Oban Bay Hotel. 🏴󠁧󠁢󠁳󠁣󠁴󠁿🏳️‍🌈🏴󠁧󠁢󠁳󠁣󠁴󠁿 \nAccommodation from just £32 per night plus booking fee or £40 per night for a private single room! \n* Book your accommodation early with big discounts compared to late booking\, as most places are doing BOOK NOW\, PAY LATER. See our accommodation section on their website.\n* We now have OBAN YHA & BACKPACKER 6 bed dorms\, so you can share with other attendees and stay just a few mins from our main event from just £32 per night plus booking fee! \nLAST 25 TICKETS FROM WWW.OBANLESBIANWEEKEND.CO.UK
URL:https://diva-magazine.com/event/oban-lesbian-weekend-2/
LOCATION:Oban\, George Street\, PA34 5DP\, United Kingdom
ATTACH;FMTTYPE=image/png:https://diva-magazine.com/wp-content/uploads/2023/06/a6-flyer-6.png
ORGANIZER;CN="Oban Lesbian Weeked":MAILTO:obanlesbianweekend@gmail.com
END:VEVENT
END:VCALENDAR