BEGIN:VCALENDAR
VERSION:2.0
PRODID:-//         - ECPv6.15.20//NONSGML v1.0//EN
CALSCALE:GREGORIAN
METHOD:PUBLISH
X-WR-CALNAME:        
X-ORIGINAL-URL:https://diva-magazine.com
X-WR-CALDESC:Events for         
REFRESH-INTERVAL;VALUE=DURATION:PT1H
X-Robots-Tag:noindex
X-PUBLISHED-TTL:PT1H
BEGIN:VTIMEZONE
TZID:Europe/London
BEGIN:DAYLIGHT
TZOFFSETFROM:+0000
TZOFFSETTO:+0100
TZNAME:BST
DTSTART:20210328T010000
END:DAYLIGHT
BEGIN:STANDARD
TZOFFSETFROM:+0100
TZOFFSETTO:+0000
TZNAME:GMT
DTSTART:20211031T010000
END:STANDARD
BEGIN:DAYLIGHT
TZOFFSETFROM:+0000
TZOFFSETTO:+0100
TZNAME:BST
DTSTART:20220327T010000
END:DAYLIGHT
BEGIN:STANDARD
TZOFFSETFROM:+0100
TZOFFSETTO:+0000
TZNAME:GMT
DTSTART:20221030T010000
END:STANDARD
BEGIN:DAYLIGHT
TZOFFSETFROM:+0000
TZOFFSETTO:+0100
TZNAME:BST
DTSTART:20230326T010000
END:DAYLIGHT
BEGIN:STANDARD
TZOFFSETFROM:+0100
TZOFFSETTO:+0000
TZNAME:GMT
DTSTART:20231029T010000
END:STANDARD
BEGIN:DAYLIGHT
TZOFFSETFROM:+0000
TZOFFSETTO:+0100
TZNAME:BST
DTSTART:20240331T010000
END:DAYLIGHT
BEGIN:STANDARD
TZOFFSETFROM:+0100
TZOFFSETTO:+0000
TZNAME:GMT
DTSTART:20241027T010000
END:STANDARD
BEGIN:DAYLIGHT
TZOFFSETFROM:+0000
TZOFFSETTO:+0100
TZNAME:BST
DTSTART:20250330T010000
END:DAYLIGHT
BEGIN:STANDARD
TZOFFSETFROM:+0100
TZOFFSETTO:+0000
TZNAME:GMT
DTSTART:20251026T010000
END:STANDARD
BEGIN:DAYLIGHT
TZOFFSETFROM:+0000
TZOFFSETTO:+0100
TZNAME:BST
DTSTART:20260329T010000
END:DAYLIGHT
BEGIN:STANDARD
TZOFFSETFROM:+0100
TZOFFSETTO:+0000
TZNAME:GMT
DTSTART:20261025T010000
END:STANDARD
END:VTIMEZONE
BEGIN:VEVENT
DTSTART;TZID=Europe/London:20250308T193000
DTEND;TZID=Europe/London:20250308T233000
DTSTAMP:20260423T114225
CREATED:20250212T092107Z
LAST-MODIFIED:20250212T092107Z
UID:97026-1741462200-1741476600@diva-magazine.com
SUMMARY:INTERNATIONAL WOMEN'S DAY - BIG MAMBO + SARAH LARKHAM
DESCRIPTION:How better to celebrate International Women’s Day than an ALL-FEMALE line-up\, to celebrate & support women in live music? \nBig Mambo are an all-female band\, playing an original mix of funk\, rock & pop. Check them out on: \nFACEBOOK: www.facebook.com/bigmambobristol\nINSTAGRAM: @bigmambobristol\nTIKTOK: @big.mambobristol \nJoin them for an electrifying gig that will have you singing along\, dancing like nobody’s watching\, and soaking in the vibes of an unforgettable evening! The SouthBank Club is an incredible venue with a fantastic atmosphere\, so is perfect for music that will move your soul. This is an event you simply can’t miss! \nLet’s turn up the volume and make memories together! All are welcome! \n* Don’t forget to bring some cash for the raffle.\n** If you pre-order a t-shirt\, they will contact you to see what size & style you would like\, then you can either get it on the night or have it delivered if local! \nEntry requirements: no age restrictions
URL:https://diva-magazine.com/event/international-womens-day-big-mambo-sarah-larkham/
LOCATION:Southbank Club\, 124-130 Wandsworth Rd\, London\, SW8 2LD\, United Kingdom
CATEGORIES:Music
ATTACH;FMTTYPE=image/jpeg:https://diva-magazine.com/wp-content/uploads/2025/02/Article-headers-4.jpg
END:VEVENT
BEGIN:VEVENT
DTSTART;TZID=Europe/London:20250301T190000
DTEND;TZID=Europe/London:20250301T190000
DTSTAMP:20260423T114225
CREATED:20250227T094650Z
LAST-MODIFIED:20250227T094650Z
UID:97598-1740855600-1740855600@diva-magazine.com
SUMMARY:Cardion Nights: Queer Performance for akt
DESCRIPTION:Cardion Nights\, presented by Cardion Arts and ICA\, platforms new and existing performance-based work by artists working across poetry\, music and visual art. Curated by Gemma Rolls-Bentley\, this one-night-only event creates a powerful space for the transformative powers of queer performance whilst raising vital funds for akt – a charity supporting queer and trans homeless youth. Performance artist Ebun Sodipo\, drag and vocal artist Die Lemma (replacing Wet Mess)\, singer Tom Rasmussen\, and movement artists Eve Stainton & Florence Peake\, will come together for what is sure to be a special night. Timed to coincide with Zero Discrimination Day\, this gathering is a call for inclusivity\, compassion\, and community.
URL:https://diva-magazine.com/event/cardion-nights-queer-performance-for-akt/
LOCATION:Institute of Contemporary Arts\, The Mall\, London\, SW1Y 5AH\, United Kingdom
CATEGORIES:Art,Music,Theatre
ATTACH;FMTTYPE=image/png:https://diva-magazine.com/wp-content/uploads/2025/02/Article-headers-2025-02-27T094515.062.png
ORGANIZER;CN="Cardion Arts":MAILTO:hello@kkweerarts.com
END:VEVENT
BEGIN:VEVENT
DTSTART;TZID=Europe/London:20240925T170000
DTEND;TZID=Europe/London:20240925T230000
DTSTAMP:20260423T114225
CREATED:20240924T140852Z
LAST-MODIFIED:20240924T140852Z
UID:92586-1727283600-1727305200@diva-magazine.com
SUMMARY:Queer Edge Live
DESCRIPTION:Queer Edge provides inclusive safe spaces for London’s queer community\, irrespective of age\, gender or sexual orientation. \nThey have been throwing queer parties on the first Friday of every month\, filling the gap between a bar and a rave\, since Summer 2023. Through this experience they have been listening to the crowd’s feedback and identifying the wants of the community… \nFrom this\, the idea of QE LIVE was born; a new queer live entertainment night in Hackney Wick celebrating the talent of local queer artists\, whilst providing another cute hangout spot for the local queer community\, hosted at Nico’s Cocktail Bar on the riverside at Hackney Bridge. \nTo align with how they schedule their clubnights\, and to make it easy to remember\, QE LIVE will be on the same day every month; the last Wednesday\, designed as the perfect hump day\, mate and date spot. \nQueer Edge operates a pay-what-you-can admission system so everyone can afford to attend\, keeping inclusivity at the heart of what they do. That said\, they respectfully ask if donations for QE LIVE could please start from a tenner\, whilst capacity is much smaller than their regular events\, the line up much bigger. Whilst this remains less than half of your average live music ticket\, if it is too expensive please message them\, as accessibility remains one of the most important values to them. They also offer pay-it-forward tickets on their website for those who can or are feeling generous. \nSo bring your crew\, your energy and your true identity for some incredible live music and entertainment… QE Live is here to celebrate self-expression & freedom for both their artists and their crowd\, and they can not wait to see you now on the last Wednesday of every month (as well as the first Friday 😉) \nSlaying our stage this time\, will be:\n@officialexxicon\n@alexgibboncomedian\n@erinastraofficial\n@elisingsloud\n@iamtstarnay\n@amyallenpoet
URL:https://diva-magazine.com/event/queer-edge-live-2/
LOCATION:Nicos Bar\, Unit 1-28\, London\, E15 2SJ\, United Kingdom
CATEGORIES:Music
ATTACH;FMTTYPE=image/webp:https://diva-magazine.com/wp-content/uploads/2024/09/queer-edge-live.webp
END:VEVENT
BEGIN:VEVENT
DTSTART;TZID=Europe/London:20231209T210000
DTEND;TZID=Europe/London:20231209T230000
DTSTAMP:20260423T114225
CREATED:20231128T155648Z
LAST-MODIFIED:20231128T155648Z
UID:82251-1702155600-1702162800@diva-magazine.com
SUMMARY:A Cocoa Butter Club Christmas Show!
DESCRIPTION:Brrr – it’s cold in here\, time to heat it up with some Christmas cheer! \nFrom the multi-talented\, award-winning Black and POC cabaret collective\, it’s the return of A Cocoa Butter Club Christmas Show! \nA winter wonderland\, where the melanated are celebrated\, filled with festive song\, dance\, drag and burlesque\, plus a sprinkle of circus and sideshow! This generous serving of The Cocoa Butter Club is a joyful\, joyful celebration in the perfect package\, adding decadence to your December. \nSet to a seasonal soundtrack of RnB and Old Skool jams\, this exquisite evening of excellence will have you wishing it was Christmas every day! \nThe line-up for A Cocoa Butter Club Christmas Show features: \n\nSadie Sinner the Songbird (she/they): The Hostess with the mostest\, Sadie Sinner performs a seamless repertoire bursting with the RnB\, Blues\, Jazz\, Motown\, Funk and Neo-soul that raised her. Sadie brings entire rooms to their feet- her vocals and vibe\, compelling them to dance the night away!\nJordan Charles (he/him): A performer\, host and playwright; Jordan Charles is a superstar. He has shone his light at iconic events such as Glastonbury Festival\, Wilderness Festival\, Soho House and The Ned.\nLauren Elise (she/her): A pole artist with a host of international competitions and performances under her belt. She’ll keep you transfixed with her mesmerising fluidity and dynamic floorwork\, all while wearing a pair of monster 10 inch heels.\nSymoné (she/they): A multidisciplinary movement artist and international performer. They are hula hooping sensation with the charm of a King.\nJaide Annalise (she/her): A London based circus artist specialising in Cyr wheel and acrobatics\, fusing contemporary circus with an urban edge.\nSas (she/her): A circus performer & choreographer who makes contortion look easy.
URL:https://diva-magazine.com/event/a-cocoa-butter-club-christmas-show/
LOCATION:Shoreditch Townhall\, 380 Old St\, London\, EC1V 9LT\, United Kingdom
CATEGORIES:Music
ATTACH;FMTTYPE=image/jpeg:https://diva-magazine.com/wp-content/uploads/2023/11/article-header-1-17.jpg
END:VEVENT
BEGIN:VEVENT
DTSTART;TZID=Europe/London:20231113T183000
DTEND;TZID=Europe/London:20231113T220000
DTSTAMP:20260423T114225
CREATED:20231023T121331Z
LAST-MODIFIED:20231023T130625Z
UID:80938-1699900200-1699912800@diva-magazine.com
SUMMARY:Martha D Lewis Live At Zédel
DESCRIPTION:In a rare intimate performance that takes in a vast and varied musical journey\, Martha D Lewis presents songs from her acclaimed 2022 release – ALL THAT YOU SEE – as well as a selection of favourites taken from her previous 5 albums. Accompanied by the sublime BBC Jazz Musician of the Year 2022 finalist\, Luke Bacchus. \nPress here for quick link to tickets >: https://efglondonjazzfestival.org.uk/events/martha-d-lewis
URL:https://diva-magazine.com/event/martha-d-lewis-live-at-zedel/
LOCATION:Crazy Coqs – Live At Zédel\, 20 Sherwood Street\, W1F 7ED\, United Kingdom
CATEGORIES:Art,Festival,Music
ATTACH;FMTTYPE=image/jpeg:https://diva-magazine.com/wp-content/uploads/2023/10/article-header-30.jpg
END:VEVENT
BEGIN:VEVENT
DTSTART;TZID=Europe/London:20231111T190000
DTEND;TZID=Europe/London:20231111T220000
DTSTAMP:20260423T114225
CREATED:20231023T121652Z
LAST-MODIFIED:20231023T145304Z
UID:80944-1699729200-1699740000@diva-magazine.com
SUMMARY:Martha D Lewis curates and performs a mini set at Rich Mix
DESCRIPTION:The third event of UK Jazz Plus sessions is a celebration of new storytelling in jazz and the launch of East  London’s prestigious Rich Mix venue as the new home for UK Jazz Plus. The event will feature four  diverse homegrown Jazz Singer Songwriters: Ese and the Vooduu People\, Xantone Blacq\, Charlotte Lansman\, and Martha D Lewis.   \nGet your tickets here: https://efglondonjazzfestival.org.uk/events/uk-jazz-plus-sessions
URL:https://diva-magazine.com/event/martha-d-lewis-curates-and-performs-a-mini-set-at-rich-mix/
LOCATION:Rich Mix\, 35-47 Bethnal Green Road\, London\, E1 6LA\, United Kingdom
CATEGORIES:Festival,Music
ATTACH;FMTTYPE=image/jpeg:https://diva-magazine.com/wp-content/uploads/2023/10/article-header-31.jpg
END:VEVENT
BEGIN:VEVENT
DTSTART;TZID=Europe/London:20231103T070000
DTEND;TZID=Europe/London:20231103T233000
DTSTAMP:20260423T114225
CREATED:20231011T094609Z
LAST-MODIFIED:20231011T094609Z
UID:80512-1698994800-1699054200@diva-magazine.com
SUMMARY:Dogs & Dykes
DESCRIPTION:🌈 Dogs & Dykes presents Pink Friday’s at Zodiac Bar! 🌈 \n🆓 FREE ENTRY! 🆓 \nJoin us for a night of queer joy: \n✨ *Meet and mingle from 6pm to 8pm* 🌟 \n✨ *Enjoy Drag Cabaret performances* 🎭 \n✨ *Dance the night away* 🎶 \nFor queer women\, trans\, non-binary individuals\, and allies. 🌈💃🏽 \nUnleash your inner diva and be part of the magic at Pink Friday’s! Grab your free tickets now for an unforgettable night of joy\, laughter\, and celebration. 🎉🌈🎟️ \nDon’t miss out\, tickets are limited ! See you there! ✨🌟🎉
URL:https://diva-magazine.com/event/dogs-dykes/2023-11-03/
LOCATION:Zodiac Bar & Club 119 Hampstead Rd\, London
CATEGORIES:Music,Social
ATTACH;FMTTYPE=image/jpeg:https://diva-magazine.com/wp-content/uploads/2023/10/article-header-16.jpg
END:VEVENT
BEGIN:VEVENT
DTSTART;TZID=Europe/London:20230707T190000
DTEND;TZID=Europe/London:20230708T000000
DTSTAMP:20260423T114225
CREATED:20230609T083125Z
LAST-MODIFIED:20230609T083227Z
UID:74265-1688756400-1688774400@diva-magazine.com
SUMMARY:Queer East
DESCRIPTION:Embrace the Queer renaissance\, as East London welcomes QUEER EAST: A brand-new Queer club night in East London (sometimes you just have to say it how it is)\, driven as a collective effort by the local queer community. \nQUEER EAST will now be happening EVERY MONTH at Two More Years\, a canal-side venue overlooking the scenic River Lea in Hackney Wick. They have residency on the first Friday of every month\, 7pm-midnight\, kicking off on Friday 7 July. Entry is free\, no tickets\, just pure love. Everyone is welcome! \nSpread the word\, bring your crew\, or if you venture alone\, lookout for one of the hosts in QUEER EAST t-shirts\, who will happily introduce you to our very friendly\, queer community.
URL:https://diva-magazine.com/event/queer-east/
LOCATION:Two More Years\, 7 Roach Rd\, Fish Island\, London\, E3 2PA
CATEGORIES:Music,Social
ATTACH;FMTTYPE=image/png:https://diva-magazine.com/wp-content/uploads/2023/06/article-header-2023-06-09T092736.324.png
END:VEVENT
BEGIN:VEVENT
DTSTART;TZID=Europe/London:20230328T190000
DTEND;TZID=Europe/London:20230328T210000
DTSTAMP:20260423T114225
CREATED:20230309T113828Z
LAST-MODIFIED:20230309T114035Z
UID:71120-1680030000-1680037200@diva-magazine.com
SUMMARY:The Forever Love Film Screening
DESCRIPTION:Join us for the short film premiere of The Forever Love\,  a queer vampire love story created by Lily Harte and Sour Neon. \nExpect dream-like sequences of queer love\, heartbreak\, and family\, set to sad girl indie synth songs by Sour Neon. \nVampires and queers and witches\, oh my! \n  \nDoors – 7pm \nScreening – 8pm \n  \nDress code: Vampiric – prize for the best outfit x
URL:https://diva-magazine.com/event/the-forever-love-film-screening/
LOCATION:The Glory\, 281 Kingsland Road\, London\, E2 8AS\, United Kingdom
CATEGORIES:Music,Social,Theatre
ATTACH;FMTTYPE=image/png:https://diva-magazine.com/wp-content/uploads/2023/03/the-forever-love.png
END:VEVENT
BEGIN:VEVENT
DTSTART;TZID=Europe/London:20220811T200000
DTEND;TZID=Europe/London:20220811T233000
DTSTAMP:20260423T114225
CREATED:20220803T093852Z
LAST-MODIFIED:20220804T134230Z
UID:64370-1660248000-1660260600@diva-magazine.com
SUMMARY:Amuse Bouche & Boogie VIP event
DESCRIPTION:An evening of cocktails\, canapés & activism hosted by political activist Lady Phyll with performances\, discussion and incredible acts including Yshee Black\, Tenaka Fuego and Jay Jay Revlon\, with music from the Stratford Hotel’s house band. All cocktails are by Crystal Head Vodka! Tickets are £100\, available via the link below.
URL:https://diva-magazine.com/event/amuse-bouche-boogie-vip-event/
LOCATION:Manhattan Loft Gardens\, 22 International Way Queen Elizabeth Olympic Park\, 22 International Way Queen Elizabeth Olympic Park\, London
CATEGORIES:Art,Music,Pride,Social
END:VEVENT
BEGIN:VEVENT
DTSTART;TZID=Europe/London:20220806T230000
DTEND;TZID=Europe/London:20220807T230000
DTSTAMP:20260423T114225
CREATED:20220728T135418Z
LAST-MODIFIED:20220728T135609Z
UID:64188-1659826800-1659913200@diva-magazine.com
SUMMARY:Mint hosts Brighton Pride After Party
DESCRIPTION:It’s nearly time – prepare yourself for a weekend of Pride celebrations\,beautiful souls\, sunshine & sky-high vibes at Brighton’s unbeatable seaside Pride.  \nWe missed out on two Brighton Prides so we’re going all-out with parties on both sides… a Saturday night House blow-out AND our infamous Pride closing beach party at OhSo on Sunday! We want to spoil you all summer long! \nOn Saturday night we’re taking over WaterBear – a buzzing new club by the sea. Perfectly formed under the arches\, this intimate venue hosts 200 lesbian queer bi trans women and non-binary babes too... all buzzing from their day of Pride Park shenanigans! \nThis is one for serious House lovers – be it funky\, Classic\, disco\, dirty we got you covered\, plus some techno house thrown in as we move into the wee hours! \nOur queens of the decks will be back to back Boiler Room-style sets – this venue will let you feel every beat of their mixing prowess as this party space boasts one of the best sound systems in Brighton (Funktion-One for those in the know)! \nMeet your party-loving Pride crew old & new\, as we mentioned this is intimate clubbing at its finest – so don’t delay snapping up these tickets as they won’t be around for long! \nPLEASE BRING PHYSICAL ID\, DRIVING LICENSE OR PASSPORT WITH YOU FOR ENTRY. \nMint black card members enjoy free entry along with their guest. Please use Mintsocial.co to reserve your places.
URL:https://diva-magazine.com/event/mint-hosts-brighton-pride-after-party/
LOCATION:Waterbear Kings Road Arches\, 169-170\, Brighton BN1 1NB\, Waterbear Kings Road Arches\, Brighton\, BN1 1NB\, United Kingdom
CATEGORIES:Music,Pride,Social
ATTACH;FMTTYPE=image/png:https://diva-magazine.com/wp-content/uploads/2022/07/559765_736286.png
END:VEVENT
END:VCALENDAR